BEGIN:VCALENDAR
VERSION:2.0
PRODID:-//VC Bravo - ECPv6.15.20//NONSGML v1.0//EN
CALSCALE:GREGORIAN
METHOD:PUBLISH
X-WR-CALNAME:VC Bravo
X-ORIGINAL-URL:https://vcbravo.nl
X-WR-CALDESC:Evenementen voor VC Bravo
REFRESH-INTERVAL;VALUE=DURATION:PT1H
X-Robots-Tag:noindex
X-PUBLISHED-TTL:PT1H
BEGIN:VTIMEZONE
TZID:Europe/Amsterdam
BEGIN:DAYLIGHT
TZOFFSETFROM:+0100
TZOFFSETTO:+0200
TZNAME:CEST
DTSTART:20230326T010000
END:DAYLIGHT
BEGIN:STANDARD
TZOFFSETFROM:+0200
TZOFFSETTO:+0100
TZNAME:CET
DTSTART:20231029T010000
END:STANDARD
BEGIN:DAYLIGHT
TZOFFSETFROM:+0100
TZOFFSETTO:+0200
TZNAME:CEST
DTSTART:20240331T010000
END:DAYLIGHT
BEGIN:STANDARD
TZOFFSETFROM:+0200
TZOFFSETTO:+0100
TZNAME:CET
DTSTART:20241027T010000
END:STANDARD
BEGIN:DAYLIGHT
TZOFFSETFROM:+0100
TZOFFSETTO:+0200
TZNAME:CEST
DTSTART:20250330T010000
END:DAYLIGHT
BEGIN:STANDARD
TZOFFSETFROM:+0200
TZOFFSETTO:+0100
TZNAME:CET
DTSTART:20251026T010000
END:STANDARD
END:VTIMEZONE
BEGIN:VEVENT
DTSTART;TZID=Europe/Amsterdam:20241219T200000
DTEND;TZID=Europe/Amsterdam:20241219T230000
DTSTAMP:20260426T025740
CREATED:20240909T091207Z
LAST-MODIFIED:20240918T052913Z
UID:3255-1734638400-1734649200@vcbravo.nl
SUMMARY:Mixtoernooi Recreanten
DESCRIPTION:
URL:https://vcbravo.nl/activiteit/mixtoernooi-recreanten-2/
LOCATION:De Belleman\, Bruninckxdal 2\, Valkenswaard\, 5551 EV\, Netherlands
CATEGORIES:Recreanten
ORGANIZER;CN="TC Recreanten":MAILTO:tcrecreanten@vcbravo.nl
END:VEVENT
END:VCALENDAR